BEGIN:VCALENDAR
VERSION:2.0
PRODID:-//Lock Haven Regatta Foundation - ECPv6.15.20//NONSGML v1.0//EN
CALSCALE:GREGORIAN
METHOD:PUBLISH
X-WR-CALNAME:Lock Haven Regatta Foundation
X-ORIGINAL-URL:https://lockhavenregattafoundation.org
X-WR-CALDESC:Events for Lock Haven Regatta Foundation
REFRESH-INTERVAL;VALUE=DURATION:PT1H
X-Robots-Tag:noindex
X-PUBLISHED-TTL:PT1H
BEGIN:VTIMEZONE
TZID:America/New_York
BEGIN:DAYLIGHT
TZOFFSETFROM:-0500
TZOFFSETTO:-0400
TZNAME:EDT
DTSTART:20220313T070000
END:DAYLIGHT
BEGIN:STANDARD
TZOFFSETFROM:-0400
TZOFFSETTO:-0500
TZNAME:EST
DTSTART:20221106T060000
END:STANDARD
BEGIN:DAYLIGHT
TZOFFSETFROM:-0500
TZOFFSETTO:-0400
TZNAME:EDT
DTSTART:20230312T070000
END:DAYLIGHT
BEGIN:STANDARD
TZOFFSETFROM:-0400
TZOFFSETTO:-0500
TZNAME:EST
DTSTART:20231105T060000
END:STANDARD
BEGIN:DAYLIGHT
TZOFFSETFROM:-0500
TZOFFSETTO:-0400
TZNAME:EDT
DTSTART:20240310T070000
END:DAYLIGHT
BEGIN:STANDARD
TZOFFSETFROM:-0400
TZOFFSETTO:-0500
TZNAME:EST
DTSTART:20241103T060000
END:STANDARD
BEGIN:DAYLIGHT
TZOFFSETFROM:-0500
TZOFFSETTO:-0400
TZNAME:EDT
DTSTART:20250309T070000
END:DAYLIGHT
BEGIN:STANDARD
TZOFFSETFROM:-0400
TZOFFSETTO:-0500
TZNAME:EST
DTSTART:20251102T060000
END:STANDARD
BEGIN:DAYLIGHT
TZOFFSETFROM:-0500
TZOFFSETTO:-0400
TZNAME:EDT
DTSTART:20260308T070000
END:DAYLIGHT
BEGIN:STANDARD
TZOFFSETFROM:-0400
TZOFFSETTO:-0500
TZNAME:EST
DTSTART:20261101T060000
END:STANDARD
END:VTIMEZONE
BEGIN:VEVENT
DTSTART;TZID=America/New_York:20250413T120000
DTEND;TZID=America/New_York:20250413T150000
DTSTAMP:20260423T193849
CREATED:20250319T233619Z
LAST-MODIFIED:20250319T233619Z
UID:704-1744545600-1744556400@lockhavenregattafoundation.org
SUMMARY:Senior Easter Dinner
DESCRIPTION:The Lock Haven Regatta Foundation will be holding their Easter Holiday Dinner on Sunday April 13th .\n  \n There will be two seatings: 12:00 and 2:00. Take-out meals may be picked up between 1:00 and 1:30 and 2:30 to 3:00. Reservations can be made by calling the Step Office at 570-858-5800 by April 9th.\n  \nWe have made a slight change this year. We need an accurate count to prep meals. To go meals must be signed up for and a ticket for the to go meals can be picked up at the Step Office.\n  \nLocation: Hall located at \n352 E Water Street\nLock Haven PA 17745\n 
URL:https://lockhavenregattafoundation.org/event/senior-easter-dinner/
END:VEVENT
BEGIN:VEVENT
DTSTART;VALUE=DATE:20240830
DTEND;VALUE=DATE:20240903
DTSTAMP:20260423T193849
CREATED:20240103T152609Z
LAST-MODIFIED:20240131T224056Z
UID:530-1724976000-1725321599@lockhavenregattafoundation.org
SUMMARY:2024 Labor Day Regatta
DESCRIPTION:We are excited to announce our 2024 Labor Day Regatta dates! Join us this year during Labor Day weekend for our annual Labor Day Regatta. What could be more fun than a weekend filled with power boat racing\, a carnival\, food\, arts and crafts vendors\, live music\, fireworks\, and more. Learn more
URL:https://lockhavenregattafoundation.org/event/2024-labor-day-regatta/
LOCATION:J. Doyle Corman Amphitheater\, E. Water Street\, Lock Haven\, PA\, 17745
ATTACH;FMTTYPE=image/jpeg:https://lockhavenregattafoundation.org/wp-content/uploads/2023/03/Labor-Day-Regatta-in-Lock-Haven-Pennslyvania-Clinton-County-PA_The-Jaycees.jpeg
END:VEVENT
BEGIN:VEVENT
DTSTART;VALUE=DATE:20230901
DTEND;VALUE=DATE:20230904
DTSTAMP:20260423T193849
CREATED:20230321T193540Z
LAST-MODIFIED:20230321T193602Z
UID:290-1693526400-1693785599@lockhavenregattafoundation.org
SUMMARY:2023 Labor Day Regatta
DESCRIPTION:We are excited to announce our 2023 Labor Day Regatta dates! Join us this year during Labor Day weekend for our annual Labor Day Regatta. What could be more fun than a weekend filled with power boat racing\, a carnival\, food\, arts & crafts vendors\, live music\, fireworks\, and more. Learn more
URL:https://lockhavenregattafoundation.org/event/2023-labor-day-regatta/
LOCATION:J. Doyle Corman Amphitheater\, E. Water Street\, Lock Haven\, PA\, 17745
ATTACH;FMTTYPE=image/jpeg:https://lockhavenregattafoundation.org/wp-content/uploads/2023/03/Labor-Day-Regatta-in-Lock-Haven-Pennslyvania-Clinton-County-PA_The-Jaycees.jpeg
END:VEVENT
END:VCALENDAR