BEGIN:VCALENDAR
VERSION:2.0
PRODID:-//Lock Haven Regatta Foundation - ECPv6.15.20//NONSGML v1.0//EN
CALSCALE:GREGORIAN
METHOD:PUBLISH
X-ORIGINAL-URL:https://lockhavenregattafoundation.org
X-WR-CALDESC:Events for Lock Haven Regatta Foundation
REFRESH-INTERVAL;VALUE=DURATION:PT1H
X-Robots-Tag:noindex
X-PUBLISHED-TTL:PT1H
BEGIN:VTIMEZONE
TZID:America/New_York
BEGIN:DAYLIGHT
TZOFFSETFROM:-0500
TZOFFSETTO:-0400
TZNAME:EDT
DTSTART:20250309T070000
END:DAYLIGHT
BEGIN:STANDARD
TZOFFSETFROM:-0400
TZOFFSETTO:-0500
TZNAME:EST
DTSTART:20251102T060000
END:STANDARD
BEGIN:DAYLIGHT
TZOFFSETFROM:-0500
TZOFFSETTO:-0400
TZNAME:EDT
DTSTART:20260308T070000
END:DAYLIGHT
BEGIN:STANDARD
TZOFFSETFROM:-0400
TZOFFSETTO:-0500
TZNAME:EST
DTSTART:20261101T060000
END:STANDARD
BEGIN:DAYLIGHT
TZOFFSETFROM:-0500
TZOFFSETTO:-0400
TZNAME:EDT
DTSTART:20270314T070000
END:DAYLIGHT
BEGIN:STANDARD
TZOFFSETFROM:-0400
TZOFFSETTO:-0500
TZNAME:EST
DTSTART:20271107T060000
END:STANDARD
END:VTIMEZONE
BEGIN:VEVENT
DTSTART;TZID=America/New_York:20260329T113000
DTEND;TZID=America/New_York:20260329T113000
DTSTAMP:20260423T174839
CREATED:20260324T202013Z
LAST-MODIFIED:20260324T202142Z
UID:744-1774783800-1774783800@lockhavenregattafoundation.org
SUMMARY:Senior Easter Dinner 2026
DESCRIPTION:The Lock Haven Regatta Foundation will be holding their Easter Holiday Dinner on Sunday March 29th .\n  \n There will be two seatings: 12:00 and 2:00.\nTake-out meals may be picked up between 2:30 to 3:00. Reservations can be made by calling the Step Office at 570-858-5800 by March 25th.\n  \nWe have made a slight change this year. We need an accurate count to prep meals. To go meals must be signed up for and a ticket for the to go meals can be picked up at the Step Office.\n  \nLocation: Hall located at\n352 E Water Street\nLock Haven PA 17745\n  \n 
URL:https://lockhavenregattafoundation.org/event/senior-easter-dinner-2/
END:VEVENT
END:VCALENDAR