BEGIN:VCALENDAR
VERSION:2.0
PRODID:-//Lock Haven Regatta Foundation - ECPv6.15.20//NONSGML v1.0//EN
CALSCALE:GREGORIAN
METHOD:PUBLISH
X-WR-CALNAME:Lock Haven Regatta Foundation
X-ORIGINAL-URL:https://lockhavenregattafoundation.org
X-WR-CALDESC:Events for Lock Haven Regatta Foundation
REFRESH-INTERVAL;VALUE=DURATION:PT1H
X-Robots-Tag:noindex
X-PUBLISHED-TTL:PT1H
BEGIN:VTIMEZONE
TZID:America/New_York
BEGIN:DAYLIGHT
TZOFFSETFROM:-0500
TZOFFSETTO:-0400
TZNAME:EDT
DTSTART:20240310T070000
END:DAYLIGHT
BEGIN:STANDARD
TZOFFSETFROM:-0400
TZOFFSETTO:-0500
TZNAME:EST
DTSTART:20241103T060000
END:STANDARD
BEGIN:DAYLIGHT
TZOFFSETFROM:-0500
TZOFFSETTO:-0400
TZNAME:EDT
DTSTART:20250309T070000
END:DAYLIGHT
BEGIN:STANDARD
TZOFFSETFROM:-0400
TZOFFSETTO:-0500
TZNAME:EST
DTSTART:20251102T060000
END:STANDARD
BEGIN:DAYLIGHT
TZOFFSETFROM:-0500
TZOFFSETTO:-0400
TZNAME:EDT
DTSTART:20260308T070000
END:DAYLIGHT
BEGIN:STANDARD
TZOFFSETFROM:-0400
TZOFFSETTO:-0500
TZNAME:EST
DTSTART:20261101T060000
END:STANDARD
END:VTIMEZONE
BEGIN:VEVENT
DTSTART;TZID=America/New_York:20251214T120000
DTEND;TZID=America/New_York:20251214T170000
DTSTAMP:20260423T164928
CREATED:20251201T233056Z
LAST-MODIFIED:20251201T233736Z
UID:740-1765713600-1765731600@lockhavenregattafoundation.org
SUMMARY:Senior Holiday Dinner
DESCRIPTION:The Lock Haven Regatta Foundation will be holding their Senior Holiday Dinner on Sunday December 14\, 2025.   There will be two seatings: 12:00 and 2:00. Take-out meals may be picked up between 1:00 and 1:30 and 2:30 to 3:00. Reservations can be made by calling the Step Office at 570-858-5800 by December 11\, 2025. A ticket will be needed for to go meals. Tickets can be picked up at the Step Office.
URL:https://lockhavenregattafoundation.org/event/senior-holiday-dinner/
END:VEVENT
END:VCALENDAR